Package: svaRetro Version: 1.12.0 Command: /Library/Frameworks/R.framework/Resources/bin/R CMD INSTALL svaRetro StartedAt: 2025-02-03 15:49:11 -0500 (Mon, 03 Feb 2025) EndedAt: 2025-02-03 15:50:34 -0500 (Mon, 03 Feb 2025) EllapsedTime: 83.0 seconds RetCode: 0 Status: OK