Package: swfdr Version: 1.32.0 Command: /Library/Frameworks/R.framework/Resources/bin/R CMD build --keep-empty-dirs --no-resave-data swfdr StartedAt: 2025-02-04 09:29:16 -0500 (Tue, 04 Feb 2025) EndedAt: 2025-02-04 09:30:26 -0500 (Tue, 04 Feb 2025) EllapsedTime: 70.4 seconds RetCode: 0 Status: OK PackageFile: swfdr_1.32.0.tar.gz PackageFileSize: 1.203 MiB