Package: swfdr Version: 1.32.0 Command: /Library/Frameworks/R.framework/Resources/bin/R CMD build --keep-empty-dirs --no-resave-data swfdr StartedAt: 2025-02-03 22:47:52 -0500 (Mon, 03 Feb 2025) EndedAt: 2025-02-03 22:49:53 -0500 (Mon, 03 Feb 2025) EllapsedTime: 121.1 seconds RetCode: 0 Status: OK PackageFile: swfdr_1.32.0.tar.gz PackageFileSize: 1.203 MiB