Package: swfdr Version: 1.32.0 Command: /Library/Frameworks/R.framework/Resources/bin/R CMD check --install=check:swfdr.install-out.txt --library=/Library/Frameworks/R.framework/Resources/library --no-vignettes --timings swfdr_1.32.0.tar.gz StartedAt: 2025-02-04 11:03:06 -0500 (Tue, 04 Feb 2025) EndedAt: 2025-02-04 11:04:02 -0500 (Tue, 04 Feb 2025) EllapsedTime: 56.2 seconds RetCode: 0 Status: WARNINGS CheckDir: swfdr.Rcheck Warnings: 1