Package: swfdr Version: 1.32.0 Command: /home/biocbuild/bbs-3.20-bioc/R/bin/R CMD INSTALL swfdr StartedAt: 2025-02-03 15:15:19 -0500 (Mon, 03 Feb 2025) EndedAt: 2025-02-03 15:15:35 -0500 (Mon, 03 Feb 2025) EllapsedTime: 15.2 seconds RetCode: 0 Status: OK