Package: swfdr Version: 1.32.0 Command: chmod a+r swfdr -R && F:\biocbuild\bbs-3.20-bioc\R\bin\R.exe CMD build --keep-empty-dirs --no-resave-data swfdr StartedAt: 2025-02-03 22:30:37 -0500 (Mon, 03 Feb 2025) EndedAt: 2025-02-03 22:32:03 -0500 (Mon, 03 Feb 2025) EllapsedTime: 87.0 seconds RetCode: 0 Status: OK PackageFile: swfdr_1.32.0.tar.gz PackageFileSize: 1.208 MiB