Package: swfdr Version: 1.32.0 Command: F:\biocbuild\bbs-3.20-bioc\R\bin\R.exe CMD INSTALL swfdr StartedAt: 2025-02-03 15:34:17 -0500 (Mon, 03 Feb 2025) EndedAt: 2025-02-03 15:34:29 -0500 (Mon, 03 Feb 2025) EllapsedTime: 11.9 seconds RetCode: 0 Status: OK