Package: swfdr
Version: 1.32.0
Command: /home/biocbuild/bbs-3.20-bioc/R/bin/R CMD check --install=check:swfdr.install-out.txt --library=/home/biocbuild/bbs-3.20-bioc/R/site-library --timings swfdr_1.32.0.tar.gz
StartedAt: 2024-11-20 10:30:48 -0500 (Wed, 20 Nov 2024)
EndedAt: 2024-11-20 10:31:38 -0500 (Wed, 20 Nov 2024)
EllapsedTime: 50.2 seconds
RetCode: 0
Status: WARNINGS
CheckDir: swfdr.Rcheck
Warnings: 1