Package: switchBox Version: 1.42.0 Command: rm -rf switchBox.buildbin-libdir && mkdir switchBox.buildbin-libdir && /Users/biocbuild/BBS/utils/build-universal.sh switchBox_1.42.0.tar.gz /Library/Frameworks/R.framework/Resources/bin/R switchBox.buildbin-libdir StartedAt: 2025-02-05 18:03:07 -0500 (Wed, 05 Feb 2025) EndedAt: 2025-02-05 18:03:15 -0500 (Wed, 05 Feb 2025) EllapsedTime: 7.9 seconds RetCode: 0 Status: OK PackageFile: switchBox_1.42.0.tgz PackageFileSize: 636.9 KiB