Package: switchBox Version: 1.42.0 Command: /Library/Frameworks/R.framework/Resources/bin/R CMD build --keep-empty-dirs --no-resave-data switchBox StartedAt: 2025-02-04 09:29:18 -0500 (Tue, 04 Feb 2025) EndedAt: 2025-02-04 09:29:36 -0500 (Tue, 04 Feb 2025) EllapsedTime: 17.7 seconds RetCode: 0 Status: OK PackageFile: switchBox_1.42.0.tar.gz PackageFileSize: 470.8 KiB