Package: switchBox Version: 1.42.0 Command: /Library/Frameworks/R.framework/Resources/bin/R CMD check --install=check:switchBox.install-out.txt --library=/Library/Frameworks/R.framework/Resources/library --no-vignettes --timings switchBox_1.42.0.tar.gz StartedAt: 2025-02-05 12:20:45 -0500 (Wed, 05 Feb 2025) EndedAt: 2025-02-05 12:21:28 -0500 (Wed, 05 Feb 2025) EllapsedTime: 43.1 seconds RetCode: 0 Status: WARNINGS CheckDir: switchBox.Rcheck Warnings: 3