Package: switchBox
Version: 1.42.0
Command: /Library/Frameworks/R.framework/Resources/bin/R CMD INSTALL switchBox
StartedAt: 2024-11-08 15:13:37 -0500 (Fri, 08 Nov 2024)
EndedAt: 2024-11-08 15:13:42 -0500 (Fri, 08 Nov 2024)
EllapsedTime: 4.3 seconds
RetCode: 0
Status: OK