##############################################################################
##############################################################################
###
### Running command:
###
###   rm -rf switchBox.buildbin-libdir && mkdir switchBox.buildbin-libdir && /Users/biocbuild/BBS/utils/build-universal.sh switchBox_1.42.0.tar.gz /Library/Frameworks/R.framework/Resources/bin/R switchBox.buildbin-libdir
###
##############################################################################
##############################################################################


>>>>>>> 
>>>>>>> INSTALLATION WITH 'R CMD INSTALL --preclean --no-multiarch --library=switchBox.buildbin-libdir switchBox_1.42.0.tar.gz'
>>>>>>> 

* installing *source* package ‘switchBox’ ...
** using staged installation
** libs
using C compiler: ‘Apple clang version 14.0.0 (clang-1400.0.29.202)’
using C++ compiler: ‘Apple clang version 14.0.0 (clang-1400.0.29.202)’
using SDK: ‘MacOSX11.3.sdk’
clang++ -arch x86_64 -std=gnu++17 -I"/Library/Frameworks/R.framework/Resources/include" -DNDEBUG   -I/opt/R/x86_64/include    -fPIC  -falign-functions=64 -Wall -g -O2   -c CalculateSignedScoreCore.cc -o CalculateSignedScoreCore.o
CalculateSignedScoreCore.cc:36:26: warning: variable 'pairsNo' set but not used [-Wunused-but-set-variable]
    int i,j,l,countplace,pairsNo;
                         ^
1 warning generated.
clang++ -arch x86_64 -std=gnu++17 -I"/Library/Frameworks/R.framework/Resources/include" -DNDEBUG   -I/opt/R/x86_64/include    -fPIC  -falign-functions=64 -Wall -g -O2   -c CalculateSignedScoreCoreTieHandler.cc -o CalculateSignedScoreCoreTieHandler.o
CalculateSignedScoreCoreTieHandler.cc:49:12: warning: unused variable 'score1' [-Wunused-variable]
    double score1, score2, type;
           ^
1 warning generated.
clang++ -arch x86_64 -std=gnu++17 -I"/Library/Frameworks/R.framework/Resources/include" -DNDEBUG   -I/opt/R/x86_64/include    -fPIC  -falign-functions=64 -Wall -g -O2   -c CalculateSignedScoreRestrictedPairsCore.cc -o CalculateSignedScoreRestrictedPairsCore.o
CalculateSignedScoreRestrictedPairsCore.cc:22:11: warning: variable 'countplace' set but not used [-Wunused-but-set-variable]
                int i,l,countplace,pairsNo;
                        ^
1 warning generated.
clang++ -arch x86_64 -std=gnu++17 -I"/Library/Frameworks/R.framework/Resources/include" -DNDEBUG   -I/opt/R/x86_64/include    -fPIC  -falign-functions=64 -Wall -g -O2   -c CalculateSignedScoreRestrictedPairsCoreTieHandler.cc -o CalculateSignedScoreRestrictedPairsCoreTieHandler.o
CalculateSignedScoreRestrictedPairsCoreTieHandler.cc:35:10: warning: unused variable 'score1' [-Wunused-variable]
                double score1, score2, type;
                       ^
CalculateSignedScoreRestrictedPairsCoreTieHandler.cc:25:11: warning: unused variable 'countplace' [-Wunused-variable]
                int i,l,countplace,pairsNo;
                        ^
2 warnings generated.
clang -arch x86_64 -I"/Library/Frameworks/R.framework/Resources/include" -DNDEBUG   -I/opt/R/x86_64/include    -fPIC  -falign-functions=64 -Wall -g -O2  -c rinit.c -o rinit.o
clang++ -arch x86_64 -std=gnu++17 -I"/Library/Frameworks/R.framework/Resources/include" -DNDEBUG   -I/opt/R/x86_64/include    -fPIC  -falign-functions=64 -Wall -g -O2   -c vect2compC.cc -o vect2compC.o
clang++ -arch x86_64 -std=gnu++17 -dynamiclib -Wl,-headerpad_max_install_names -undefined dynamic_lookup -L/Library/Frameworks/R.framework/Resources/lib -L/opt/R/x86_64/lib -o switchBox.so CalculateSignedScoreCore.o CalculateSignedScoreCoreTieHandler.o CalculateSignedScoreRestrictedPairsCore.o CalculateSignedScoreRestrictedPairsCoreTieHandler.o rinit.o vect2compC.o -F/Library/Frameworks/R.framework/.. -framework R -Wl,-framework -Wl,CoreFoundation
installing to /Users/biocbuild/bbs-3.20-bioc/meat/switchBox.buildbin-libdir/00LOCK-switchBox/00new/switchBox/libs
** R
** data
** inst
** byte-compile and prepare package for lazy loading
** help
*** installing help indices
** building package indices
** installing vignettes
** testing if installed package can be loaded from temporary location
** checking absolute paths in shared objects and dynamic libraries
** testing if installed package can be loaded from final location
** testing if installed package keeps a record of temporary installation path
* DONE (switchBox)


>>>>>>> 
>>>>>>> FIXING PATHS TO DYNAMIC LIBRARIES FOR switchBox.buildbin-libdir/switchBox/libs/switchBox.so
>>>>>>> 

>>>>>>> Paths before fix:
switchBox.buildbin-libdir/switchBox/libs/switchBox.so:
	switchBox.so (compatibility version 0.0.0, current version 0.0.0)
	/Library/Frameworks/R.framework/Versions/4.4-x86_64/Resources/lib/libR.dylib (compatibility version 4.4.0, current version 4.4.1)
	/System/Library/Frameworks/CoreFoundation.framework/Versions/A/CoreFoundation (compatibility version 150.0.0, current version 1775.118.101)
	/usr/lib/libc++.1.dylib (compatibility version 1.0.0, current version 905.6.0)
	/usr/lib/libSystem.B.dylib (compatibility version 1.0.0, current version 1292.100.5)

>>>>>>> Fix with install_name_tool:
install_name_tool -change "/usr/local/lib/libgcc_s.1.1.dylib" "/Library/Frameworks/R.framework/Versions/4.4-x86_64/Resources/lib/libgcc_s.1.1.dylib" "switchBox.buildbin-libdir/switchBox/libs/switchBox.so"
install_name_tool -change "/usr/local/lib/libgfortran.5.dylib" "/Library/Frameworks/R.framework/Versions/4.4-x86_64/Resources/lib/libgfortran.5.dylib" "switchBox.buildbin-libdir/switchBox/libs/switchBox.so"
install_name_tool -change "/usr/local/lib/libquadmath.0.dylib" "/Library/Frameworks/R.framework/Versions/4.4-x86_64/Resources/lib/libquadmath.0.dylib" "switchBox.buildbin-libdir/switchBox/libs/switchBox.so"

>>>>>>> Paths after fix:
switchBox.buildbin-libdir/switchBox/libs/switchBox.so:
	switchBox.so (compatibility version 0.0.0, current version 0.0.0)
	/Library/Frameworks/R.framework/Versions/4.4-x86_64/Resources/lib/libR.dylib (compatibility version 4.4.0, current version 4.4.1)
	/System/Library/Frameworks/CoreFoundation.framework/Versions/A/CoreFoundation (compatibility version 150.0.0, current version 1775.118.101)
	/usr/lib/libc++.1.dylib (compatibility version 1.0.0, current version 905.6.0)
	/usr/lib/libSystem.B.dylib (compatibility version 1.0.0, current version 1292.100.5)