Package: switchBox Version: 1.42.0 Command: rm -rf switchBox.buildbin-libdir && mkdir switchBox.buildbin-libdir && /Users/biocbuild/BBS/utils/build-universal.sh switchBox_1.42.0.tar.gz /Library/Frameworks/R.framework/Resources/bin/R switchBox.buildbin-libdir StartedAt: 2025-01-31 13:49:29 -0500 (Fri, 31 Jan 2025) EndedAt: 2025-01-31 13:49:42 -0500 (Fri, 31 Jan 2025) EllapsedTime: 12.9 seconds RetCode: 0 Status: OK PackageFile: switchBox_1.42.0.tgz PackageFileSize: 637.1 KiB