Package: switchBox Version: 1.42.0 Command: /home/biocbuild/R/R/bin/R CMD check --install=check:switchBox.install-out.txt --library=/home/biocbuild/R/R/site-library --no-vignettes --timings switchBox_1.42.0.tar.gz StartedAt: 2025-02-04 11:34:19 -0000 (Tue, 04 Feb 2025) EndedAt: 2025-02-04 11:34:55 -0000 (Tue, 04 Feb 2025) EllapsedTime: 36.1 seconds RetCode: 0 Status: WARNINGS CheckDir: switchBox.Rcheck Warnings: 3