Package: switchde Version: 1.32.0 Command: /Library/Frameworks/R.framework/Resources/bin/R CMD check --install=check:switchde.install-out.txt --library=/Library/Frameworks/R.framework/Resources/library --no-vignettes --timings switchde_1.32.0.tar.gz StartedAt: 2025-02-01 11:27:35 -0500 (Sat, 01 Feb 2025) EndedAt: 2025-02-01 11:30:57 -0500 (Sat, 01 Feb 2025) EllapsedTime: 201.7 seconds RetCode: 0 Status: OK CheckDir: switchde.Rcheck Warnings: 0