Package: switchde Version: 1.32.0 Command: chmod a+r switchde -R && F:\biocbuild\bbs-3.20-bioc\R\bin\R.exe CMD build --keep-empty-dirs --no-resave-data switchde StartedAt: 2025-01-30 22:13:12 -0500 (Thu, 30 Jan 2025) EndedAt: 2025-01-30 22:14:10 -0500 (Thu, 30 Jan 2025) EllapsedTime: 58.1 seconds RetCode: 0 Status: OK PackageFile: switchde_1.32.0.tar.gz PackageFileSize: 489.2 KiB