Package: switchde Version: 1.32.0 Command: F:\biocbuild\bbs-3.20-bioc\R\bin\R.exe CMD INSTALL switchde StartedAt: 2025-01-30 16:02:20 -0500 (Thu, 30 Jan 2025) EndedAt: 2025-01-30 16:02:49 -0500 (Thu, 30 Jan 2025) EllapsedTime: 28.7 seconds RetCode: 0 Status: OK