Package: synergyfinder Version: 3.14.0 Command: rm -rf synergyfinder.buildbin-libdir && mkdir synergyfinder.buildbin-libdir && /Users/biocbuild/BBS/utils/build-universal.sh synergyfinder_3.14.0.tar.gz /Library/Frameworks/R.framework/Resources/bin/R synergyfinder.buildbin-libdir StartedAt: 2025-02-05 18:03:29 -0500 (Wed, 05 Feb 2025) EndedAt: 2025-02-05 18:03:39 -0500 (Wed, 05 Feb 2025) EllapsedTime: 10.0 seconds RetCode: 0 Status: OK PackageFile: synergyfinder_3.14.0.tgz PackageFileSize: 3.884 MiB