Package: synergyfinder Version: 3.14.0 Command: /Library/Frameworks/R.framework/Resources/bin/R CMD build --keep-empty-dirs --no-resave-data synergyfinder StartedAt: 2025-02-04 09:30:26 -0500 (Tue, 04 Feb 2025) EndedAt: 2025-02-04 09:32:11 -0500 (Tue, 04 Feb 2025) EllapsedTime: 105.1 seconds RetCode: 0 Status: OK PackageFile: synergyfinder_3.14.0.tar.gz PackageFileSize: 6.544 MiB