Package: synergyfinder Version: 3.14.0 Command: /Library/Frameworks/R.framework/Resources/bin/R CMD check --install=check:synergyfinder.install-out.txt --library=/Library/Frameworks/R.framework/Resources/library --no-vignettes --timings synergyfinder_3.14.0.tar.gz StartedAt: 2025-02-05 12:22:16 -0500 (Wed, 05 Feb 2025) EndedAt: 2025-02-05 12:24:03 -0500 (Wed, 05 Feb 2025) EllapsedTime: 106.8 seconds RetCode: 0 Status: WARNINGS CheckDir: synergyfinder.Rcheck Warnings: 1