Package: synergyfinder Version: 3.14.0 Command: /Library/Frameworks/R.framework/Resources/bin/R CMD INSTALL synergyfinder StartedAt: 2025-02-03 17:19:16 -0500 (Mon, 03 Feb 2025) EndedAt: 2025-02-03 17:19:23 -0500 (Mon, 03 Feb 2025) EllapsedTime: 7.0 seconds RetCode: 0 Status: OK