Package: synergyfinder Version: 3.14.0 Command: rm -rf synergyfinder.buildbin-libdir && mkdir synergyfinder.buildbin-libdir && /Users/biocbuild/BBS/utils/build-universal.sh synergyfinder_3.14.0.tar.gz /Library/Frameworks/R.framework/Resources/bin/R synergyfinder.buildbin-libdir StartedAt: 2025-01-31 13:49:40 -0500 (Fri, 31 Jan 2025) EndedAt: 2025-01-31 13:49:58 -0500 (Fri, 31 Jan 2025) EllapsedTime: 18.3 seconds RetCode: 0 Status: OK PackageFile: synergyfinder_3.14.0.tgz PackageFileSize: 3.885 MiB