Package: synergyfinder Version: 3.14.0 Command: F:\biocbuild\bbs-3.20-bioc\R\bin\R.exe CMD check --no-multiarch --install=check:synergyfinder.install-out.txt --library=F:\biocbuild\bbs-3.20-bioc\R\library --no-vignettes --timings synergyfinder_3.14.0.tar.gz StartedAt: 2025-02-04 06:55:06 -0500 (Tue, 04 Feb 2025) EndedAt: 2025-02-04 06:57:09 -0500 (Tue, 04 Feb 2025) EllapsedTime: 122.8 seconds RetCode: 0 Status: WARNINGS CheckDir: synergyfinder.Rcheck Warnings: 1