Package: synergyfinder Version: 3.14.0 Command: /home/biocbuild/R/R/bin/R CMD INSTALL synergyfinder StartedAt: 2025-02-03 21:07:53 -0000 (Mon, 03 Feb 2025) EndedAt: 2025-02-03 21:07:56 -0000 (Mon, 03 Feb 2025) EllapsedTime: 2.1 seconds RetCode: 1 Status: ERROR