Package: synlet Version: 2.6.0 Command: /Library/Frameworks/R.framework/Resources/bin/R CMD build --keep-empty-dirs --no-resave-data synlet StartedAt: 2025-02-04 09:31:40 -0500 (Tue, 04 Feb 2025) EndedAt: 2025-02-04 09:32:11 -0500 (Tue, 04 Feb 2025) EllapsedTime: 31.2 seconds RetCode: 0 Status: OK PackageFile: synlet_2.6.0.tar.gz PackageFileSize: 1.384 MiB