Package: synlet Version: 2.6.0 Command: /Library/Frameworks/R.framework/Resources/bin/R CMD INSTALL synlet StartedAt: 2025-02-03 15:38:47 -0500 (Mon, 03 Feb 2025) EndedAt: 2025-02-03 15:38:51 -0500 (Mon, 03 Feb 2025) EllapsedTime: 3.3 seconds RetCode: 0 Status: OK