Package: systemPipeR
Version: 2.12.0
Command: rm -rf systemPipeR.buildbin-libdir && mkdir systemPipeR.buildbin-libdir && /Users/biocbuild/BBS/utils/build-universal.sh systemPipeR_2.12.0.tar.gz /Library/Frameworks/R.framework/Resources/bin/R systemPipeR.buildbin-libdir
StartedAt: 2024-11-20 04:55:01 -0500 (Wed, 20 Nov 2024)
EndedAt: 2024-11-20 04:56:14 -0500 (Wed, 20 Nov 2024)
EllapsedTime: 72.6 seconds
RetCode: 0
Status: OK
PackageFile: systemPipeR_2.12.0.tgz
PackageFileSize: 6.275 <A href="http://en.wikipedia.org/wiki/MiB" target="_blank">MiB</A>