Package: systemPipeR Version: 2.12.0 Command: rm -rf systemPipeR.buildbin-libdir && mkdir systemPipeR.buildbin-libdir && F:\biocbuild\bbs-3.20-bioc\R\bin\R.exe CMD INSTALL --build --library=systemPipeR.buildbin-libdir systemPipeR_2.12.0.tar.gz StartedAt: 2025-02-04 09:39:03 -0500 (Tue, 04 Feb 2025) EndedAt: 2025-02-04 09:42:06 -0500 (Tue, 04 Feb 2025) EllapsedTime: 182.7 seconds RetCode: 0 Status: OK PackageFile: systemPipeR_2.12.0.zip PackageFileSize: 6.365 MiB