Package: systemPipeR Version: 2.12.0 Command: chmod a+r systemPipeR -R && F:\biocbuild\bbs-3.20-bioc\R\bin\R.exe CMD build --keep-empty-dirs --no-resave-data systemPipeR StartedAt: 2025-02-03 22:31:39 -0500 (Mon, 03 Feb 2025) EndedAt: 2025-02-03 22:34:36 -0500 (Mon, 03 Feb 2025) EllapsedTime: 176.7 seconds RetCode: 0 Status: OK PackageFile: systemPipeR_2.12.0.tar.gz PackageFileSize: 7.336 MiB