Package: systemPipeR Version: 2.12.0 Command: F:\biocbuild\bbs-3.20-bioc\R\bin\R.exe CMD INSTALL systemPipeR StartedAt: 2025-02-03 17:05:33 -0500 (Mon, 03 Feb 2025) EndedAt: 2025-02-03 17:10:26 -0500 (Mon, 03 Feb 2025) EllapsedTime: 292.8 seconds RetCode: 0 Status: OK