Package: systemPipeR Version: 2.12.0 Command: /home/biocbuild/R/R/bin/R CMD build --keep-empty-dirs --no-resave-data systemPipeR StartedAt: 2025-02-04 03:26:55 -0000 (Tue, 04 Feb 2025) EndedAt: 2025-02-04 03:28:57 -0000 (Tue, 04 Feb 2025) EllapsedTime: 122.2 seconds RetCode: 0 Status: OK PackageFile: systemPipeR_2.12.0.tar.gz PackageFileSize: 6.872 MiB