Package: systemPipeR Version: 2.12.0 Command: /home/biocbuild/R/R/bin/R CMD INSTALL systemPipeR StartedAt: 2025-02-03 20:52:34 -0000 (Mon, 03 Feb 2025) EndedAt: 2025-02-03 20:53:30 -0000 (Mon, 03 Feb 2025) EllapsedTime: 55.7 seconds RetCode: 0 Status: OK