Package: systemPipeShiny Version: 1.15.0 Command: rm -rf systemPipeShiny.buildbin-libdir && mkdir systemPipeShiny.buildbin-libdir && F:\biocbuild\bbs-3.20-bioc\R\bin\R.exe CMD INSTALL --build --library=systemPipeShiny.buildbin-libdir systemPipeShiny_1.15.0.tar.gz StartedAt: 2024-06-10 15:20:22 -0400 (Mon, 10 Jun 2024) EndedAt: 2024-06-10 15:22:03 -0400 (Mon, 10 Jun 2024) EllapsedTime: 100.9 seconds RetCode: 0 Status: OK PackageFile: systemPipeShiny_1.15.0.zip PackageFileSize: 3.603 MiB