Package: systemPipeTools Version: 1.14.0 Command: rm -rf systemPipeTools.buildbin-libdir && mkdir systemPipeTools.buildbin-libdir && /Users/biocbuild/BBS/utils/build-universal.sh systemPipeTools_1.14.0.tar.gz /Library/Frameworks/R.framework/Resources/bin/R systemPipeTools.buildbin-libdir StartedAt: 2024-11-20 04:55:01 -0500 (Wed, 20 Nov 2024) EndedAt: 2024-11-20 04:55:41 -0500 (Wed, 20 Nov 2024) EllapsedTime: 39.5 seconds RetCode: 0 Status: OK PackageFile: systemPipeTools_1.14.0.tgz PackageFileSize: 1.03 MiB