Package: systemPipeTools Version: 1.14.0 Command: /Library/Frameworks/R.framework/Resources/bin/R CMD build --keep-empty-dirs --no-resave-data systemPipeTools StartedAt: 2024-11-19 18:55:04 -0500 (Tue, 19 Nov 2024) EndedAt: 2024-11-19 18:56:20 -0500 (Tue, 19 Nov 2024) EllapsedTime: 76.3 seconds RetCode: 0 Status: OK PackageFile: systemPipeTools_1.14.0.tar.gz PackageFileSize: 996.3 KiB