Package: systemPipeTools Version: 1.14.0 Command: /Library/Frameworks/R.framework/Resources/bin/R CMD build --keep-empty-dirs --no-resave-data systemPipeTools StartedAt: 2025-01-30 23:21:12 -0500 (Thu, 30 Jan 2025) EndedAt: 2025-01-30 23:23:30 -0500 (Thu, 30 Jan 2025) EllapsedTime: 137.6 seconds RetCode: 0 Status: OK PackageFile: systemPipeTools_1.14.0.tar.gz PackageFileSize: 997.2 KiB