Package: systemPipeTools Version: 1.14.0 Command: /Library/Frameworks/R.framework/Resources/bin/R CMD check --install=check:systemPipeTools.install-out.txt --library=/Library/Frameworks/R.framework/Resources/library --no-vignettes --timings systemPipeTools_1.14.0.tar.gz StartedAt: 2025-01-31 11:01:23 -0500 (Fri, 31 Jan 2025) EndedAt: 2025-01-31 11:10:26 -0500 (Fri, 31 Jan 2025) EllapsedTime: 542.9 seconds RetCode: 0 Status: WARNINGS CheckDir: systemPipeTools.Rcheck Warnings: 1