Package: systemPipeTools Version: 1.14.0 Command: /Library/Frameworks/R.framework/Resources/bin/R CMD INSTALL systemPipeTools StartedAt: 2025-01-30 16:36:33 -0500 (Thu, 30 Jan 2025) EndedAt: 2025-01-30 16:37:30 -0500 (Thu, 30 Jan 2025) EllapsedTime: 56.6 seconds RetCode: 0 Status: OK