Package: systemPipeTools Version: 1.14.0 Command: /home/biocbuild/bbs-3.20-bioc/R/bin/R CMD build --keep-empty-dirs --no-resave-data --md5 systemPipeTools StartedAt: 2025-01-30 19:25:47 -0500 (Thu, 30 Jan 2025) EndedAt: 2025-01-30 19:26:43 -0500 (Thu, 30 Jan 2025) EllapsedTime: 56.1 seconds RetCode: 0 Status: OK PackageFile: systemPipeTools_1.14.0.tar.gz PackageFileSize: 992.7 KiB