Package: systemPipeTools Version: 1.14.0 Command: rm -rf systemPipeTools.buildbin-libdir && mkdir systemPipeTools.buildbin-libdir && F:\biocbuild\bbs-3.20-bioc\R\bin\R.exe CMD INSTALL --build --library=systemPipeTools.buildbin-libdir systemPipeTools_1.14.0.tar.gz StartedAt: 2025-02-04 09:39:08 -0500 (Tue, 04 Feb 2025) EndedAt: 2025-02-04 09:39:51 -0500 (Tue, 04 Feb 2025) EllapsedTime: 42.7 seconds RetCode: 0 Status: OK PackageFile: systemPipeTools_1.14.0.zip PackageFileSize: 608.3 KiB