Package: systemPipeTools Version: 1.14.0 Command: chmod a+r systemPipeTools -R && F:\biocbuild\bbs-3.20-bioc\R\bin\R.exe CMD build --keep-empty-dirs --no-resave-data systemPipeTools StartedAt: 2025-02-03 22:31:45 -0500 (Mon, 03 Feb 2025) EndedAt: 2025-02-03 22:33:26 -0500 (Mon, 03 Feb 2025) EllapsedTime: 101.0 seconds RetCode: 0 Status: OK PackageFile: systemPipeTools_1.14.0.tar.gz PackageFileSize: 547 KiB