Package: tRNA Version: 1.24.0 Command: /home/biocbuild/R/R/bin/R CMD check --install=check:tRNA.install-out.txt --library=/home/biocbuild/R/R/site-library --no-vignettes --timings tRNA_1.24.0.tar.gz StartedAt: 2025-02-04 11:57:10 -0000 (Tue, 04 Feb 2025) EndedAt: 2025-02-04 12:01:43 -0000 (Tue, 04 Feb 2025) EllapsedTime: 272.5 seconds RetCode: 0 Status: OK CheckDir: tRNA.Rcheck Warnings: 0