Package: tRNAdbImport Version: 1.24.0 Command: /Library/Frameworks/R.framework/Resources/bin/R CMD check --install=check:tRNAdbImport.install-out.txt --library=/Library/Frameworks/R.framework/Resources/library --no-vignettes --timings tRNAdbImport_1.24.0.tar.gz StartedAt: 2025-02-05 13:34:09 -0500 (Wed, 05 Feb 2025) EndedAt: 2025-02-05 13:36:07 -0500 (Wed, 05 Feb 2025) EllapsedTime: 118.7 seconds RetCode: 0 Status: OK CheckDir: tRNAdbImport.Rcheck Warnings: 0