Package: tRNAdbImport
Version: 1.24.0
Command: /Library/Frameworks/R.framework/Resources/bin/R CMD INSTALL tRNAdbImport
StartedAt: 2025-02-17 15:37:45 -0500 (Mon, 17 Feb 2025)
EndedAt: 2025-02-17 15:38:01 -0500 (Mon, 17 Feb 2025)
EllapsedTime: 16.4 seconds
RetCode: 0
Status: OK