Package: tRNAdbImport Version: 1.24.0 Command: /Library/Frameworks/R.framework/Resources/bin/R CMD check --install=check:tRNAdbImport.install-out.txt --library=/Library/Frameworks/R.framework/Resources/library --no-vignettes --timings tRNAdbImport_1.24.0.tar.gz StartedAt: 2025-01-31 11:30:09 -0500 (Fri, 31 Jan 2025) EndedAt: 2025-01-31 11:33:58 -0500 (Fri, 31 Jan 2025) EllapsedTime: 229.0 seconds RetCode: 0 Status: OK CheckDir: tRNAdbImport.Rcheck Warnings: 0