Package: tRNAdbImport Version: 1.24.0 Command: /home/biocbuild/R/R/bin/R CMD INSTALL tRNAdbImport StartedAt: 2025-01-30 20:19:35 -0000 (Thu, 30 Jan 2025) EndedAt: 2025-01-30 20:19:52 -0000 (Thu, 30 Jan 2025) EllapsedTime: 17.3 seconds RetCode: 0 Status: OK