Package: tRNAscanImport
Version: 1.26.0
Command: /Library/Frameworks/R.framework/Resources/bin/R CMD INSTALL tRNAscanImport
StartedAt: 2025-02-17 16:04:08 -0500 (Mon, 17 Feb 2025)
EndedAt: 2025-02-17 16:04:50 -0500 (Mon, 17 Feb 2025)
EllapsedTime: 42.4 seconds
RetCode: 0
Status: OK