Package: tRNAscanImport Version: 1.26.0 Command: /Library/Frameworks/R.framework/Resources/bin/R CMD build --keep-empty-dirs --no-resave-data tRNAscanImport StartedAt: 2025-02-03 23:02:30 -0500 (Mon, 03 Feb 2025) EndedAt: 2025-02-03 23:06:55 -0500 (Mon, 03 Feb 2025) EllapsedTime: 264.5 seconds RetCode: 0 Status: OK PackageFile: tRNAscanImport_1.26.0.tar.gz PackageFileSize: 879.1 KiB