Package: tadar Version: 1.4.0 Command: /home/biocbuild/R/R/bin/R CMD build --keep-empty-dirs --no-resave-data tadar StartedAt: 2024-11-20 04:24:03 -0000 (Wed, 20 Nov 2024) EndedAt: 2024-11-20 04:26:02 -0000 (Wed, 20 Nov 2024) EllapsedTime: 119.2 seconds RetCode: 0 Status: OK PackageFile: tadar_1.4.0.tar.gz PackageFileSize: 1.492 MiB